BEGIN:VCALENDAR
VERSION:2.0
PRODID:-//Eventin//Event Calendar//EN
CALSCALE:GREGORIAN
METHOD:PUBLISH
BEGIN:VEVENT
UID:95950ce2d9b80ab1ca2e518d48f66a09@www.saarpfalz-lichtblicke.de
SUMMARY:Namibia – Die Schönheit Afrikas – 18. Dezember 2026 – Neusta
 dt an der Weinstraße
DESCRIPTION:Namibia - Die Schönheit Afrikas\nNamibia\, die ehemalige Kolon
 ie "Deutsch-Südwest-Afrika"Namibia\, die ehemalige Kolonie „Deutsch-Süd
 west-Afrika“\, ist angeblich das trockenste Land südlich der Sahara und 
 gilt heute als eine der Top-Reisedestinationen des schwarzen Kontinents. De
 r Name des Staates leitet sich von der Wüste Namib ab. Namibia ist fläche
 nmäßig fast doppelt so groß wie Deutschland\, hat aber nur ca. 2\,2 Mill
 ionen Einwohner.\nWindhoek & SwakopmundWir beginnen die Reise in der Haupts
 tadt Windhoek\, wo man immer wieder auf Zeichen der deutschen Kolonialzeit 
 stößt und fahren anschließend in die wohl deutscheste Stadt Afrikas\, na
 ch Swakopmund. Über 10.000 km von Zuhause entfernt\, ist überall deutsch 
 zu hören und auch zu lesen. Als krasser Gegensatz zu Swakopmund steht der 
 Besuch in einem afrikanischen Kral im Caprivistreifen\, in dem Andreas Hube
 r die Erlaubnis zum fotografieren erhielt.\nLandschaftDas Matterhorn Namibi
 as\, die Spitzkoppe\, ist der wohl meistfotografierte Berg Namibias. Das Fe
 lsmassiv aus Granitgestein bietet unzählige Motive. Und wenn es Nacht wird
 \, erstrahlt ein prachtvoller Sternenhimmel. Milliarden von Sternen funkeln
  aus der Dunkelheit und die bei uns kaum sichtbare Milchstraße leuchtet ex
 trem hell – ein Paradies für Sternengucker. Aber auch die Region rund um
  den Brandberg mit den bekannten Felsgzeichnungen von Tywfelfontein darf ni
 cht fehlen.\nSafariHierzu zeigt der Fotograf beeindruckende Bilder aus dem 
 Etosha-Nationalpark\, dem wohl bekanntesten Tierschutzreservat in Namibia. 
 Und auch die Namib-Wüste\, die als sehr lebensfeindlich gilt\, steckt voll
 er Leben – lassen Sie sich überraschen. In der Erongo-Region steht zudem
  der Besuch beim Cheetah Conservation Fund an\, einer Umweltschutzorganisat
 ion\, die sich den Schutz der Geparde zum Ziel gesetzt hat. Eine tolle Gele
 genheit diese eleganten Raubkatzen einmal aus der Nähe zu erleben.\nVictor
 iafälleAls der legendäre Afrikaforscher David Livingstone 1855 die riesig
 en Wasserfälle für die Europäer entdeckte\, wählte er zu Ehren der dama
 ligen britischen Königin den Namen Victoriafälle. Livingstone sprach bei 
 dem Anblick dieses gigantischen Naturschauspiels von dem wundervollsten Anb
 lick\, der sich ihm in Afrika geboten hat. Andreas Huber hat die Vitoriafä
 lle an der Grenze zwischen Sambia und Simbabwe auch aus dem Hubschrauber he
 raus fotografiert. Die Einheimischen nennen die Fälle Mosi-Oa-Tunya\, Rauc
 h der donnert.\nNamib-Wüste:Selbstverständlich kann die Reise durch Namib
 ia nicht ohne einen Besuch des rotgoldenen Dünenmeeres rund um die Region 
 des Sossusvlei enden. Die abgestorbenen Akazienbäume lassen das Herz eines
  jeden Fotografen schneller schlagen. Im weichen Licht am Morgen präsentie
 rt sich die Namib von einer ihrer schönsten Seiten\, nun findet man fast p
 aradiesische Lichtverhältnisse und Fotomotive im Überfluss.\nSie erwartet
 :Wüste – Wildnis – Weite: Namibias Landschaften sind legendär. Andrea
 s Huber spannt einen faszinierenden Bilderbogen der wunderschönen Landscha
 ft und Tierwelt Namibias. Genießen Sie traumhafte Reiseimpressionen und vi
 ele unterhaltsame\, humorvolle und spannende Geschichten aus dem südlichen
  Afrika\, einer Region der Kontraste und schillernden Gegensätze.\nReisebr
 oschüre:Bei meinen Shows können Sie eine 68-seitige-Reisebroschüre im DI
 N-A5-Format zum Preis von 8\,50 € erwerben. Selbstverständlich sende ich
  Ihnen die Broschüre mit einem geringen Portoaufschlag auch gerne auf dem 
 Postweg zu.\nTickets für diese Veranstaltung bekommen Sie auch bei:    
                         (Hier können allerdings zusätzlic
 he Verkaufsgebühren anfallen)
LOCATION:Saalbau\, Bahnhofstraße 1\, 67434 Neustadt an der Weinstraße
DTSTAMP:20260423T151845Z
DTSTART:20261218T183000Z
DTEND:20261218T204500Z
END:VEVENT
END:VCALENDAR
