BEGIN:VCALENDAR
VERSION:2.0
PRODID:-//Eventin//Event Calendar//EN
CALSCALE:GREGORIAN
METHOD:PUBLISH
BEGIN:VEVENT
UID:8bd091ba04ab14fb48bee8b7aed59dcf@www.saarpfalz-lichtblicke.de
SUMMARY:Island - Naturparadies im Nordatlantik – 29. November 2026 – Ku
 sel
DESCRIPTION:ISLAND  -  Naturparadies im NordatlantikSeit über 20 Jahren 
 bereist Andreas Huber die faszinierende Vulkaninsel im Nordatlantik regelm
 äßig. Hier auf Island sind die gigantischen Kräfte der Natur hautnah zu 
 spüren. Riesige Gletscher\, mächtige Wasserfälle\, bizarre Lavalandschaf
 ten und manchmal auch bedrohliche Aschewolken. Die gigantischen isländisch
 en Naturgewalten zeigen einem immer wieder\, wie klein man als Mensch doch 
 ist. Aber trotz der regelmäßigen Besuche\, hat die Insel aus Feuer und Ei
 s nie an Reiz für den Fotografen verloren.\nIsland ist ein wahres Eldorado
  für jeden Naturliebhaber. In unzähligen Hochtemperaturgebieten dampft\, 
 brodelt und zischt es unaufhörlich. Geysire schießen Wasserfontänen mete
 rhoch in den Himmel und daneben blubbert es aus unzähligen Schlammtöpfen.
  Im Gegensatz dazu stehen die mächtigen Gletscher und die zahlreichen Wass
 erfälle Islands. Die bunten Berge Islands erscheinen in ihrer Farbintensit
 ät geradezu surreal\, die archaischen Landschaften im rauen und oft auch s
 chroffen Hochland scheinen nicht von dieser Welt zu sein. Und wenn dann in 
 den Wintermonaten noch das Polarlicht am Himmel tanzt…\nAuch die bezauber
 nde Tierwelt kommt natürlich nicht zu kurz\, neben den allgegenwärtigen I
 slandpferden darf ein Besuch in den Vogelbrutgebieten mit den putzigen Papa
 geitauchern und den angriffslustigen Küstenseeschwalben nicht fehlen. Es s
 ind aber immer auch die Begegnungen mit den Menschen\, die viel vom Reiz ei
 nes Landes ausmachen. Freuen Sie sich auf einige außergewöhnliche und sku
 rrile Begegnungen.\nAndreas Hubers aktualisierte Reisereportage ist eine ei
 nfühlsame Liebeserklärung an die Insel aus Feuer und Eis. In gewohnt perf
 ekter digitaler Projektion mit brillanten Standbildern\, Videosequenzen\, s
 orgsam ausgesuchter Musikunterlegung und einem packendem Live-Kommentar erh
 alten Sie viele wertvolle Tipps und Informationen für eine eigene Erkundun
 g von Island\, dem Naturparadies im Nordatlantik.\nVorsicht: Die Show kann 
 akute Reiselust auslösen.\nDiese Veranstaltung ist auch bei Ticket Regiona
 l buchbar:\n 
LOCATION:Horst-Eckel-Haus\, Lehnstraße 16\,66869 Kusel
DTSTAMP:20260423T150026Z
DTSTART:20261129T160000Z
DTEND:20261129T183000Z
END:VEVENT
END:VCALENDAR
