BEGIN:VCALENDAR
VERSION:2.0
PRODID:-//Eventin//Event Calendar//EN
CALSCALE:GREGORIAN
METHOD:PUBLISH
BEGIN:VEVENT
UID:6dafb519b8c6f21202f556ab99eeba52@www.saarpfalz-lichtblicke.de
SUMMARY:Tibet – Dem Himmel so nah – 02. November 2026 – Karlsruhe
DESCRIPTION:Ein außergewöhnliches Erlebnis\nIn Tibet ist man dem Himmel e
 in Stück näher\, sagt ein altes Sprichwort. Und tatsächlich\, auf welche
 n Flecken unserer Erde träfe dies besser zu als auf das Dach der Welt\, hi
 nter den schneebedeckten Bergen des Himalaya. Reisen Sie mit mir durch eine
  im wahrsten Sinne des Wortes atemberaubende Landschaft und lassen Sie uns 
 gemeinsam in die spirituelle Kultur des tibetischen Buddhismus eintauchen. 
 Von Tibet geht eine ungeheure Mystik und Faszination aus. Von hier muss der
  Ausdruck "atemberaubend schön" stammen.\nLhasa Unsere Reise beginnen wir 
 in der Landeshauptstadt Lhasa. Nach dem Besuch des Potala-Palastes kommen w
 ir zum Jokhang-Tempel\, dem Nationalheiligtum der Tibeter. Hier erleben wir
  die Gläubigkeit des tibetischen Volkes und tauchen ein wenig in die spiri
 tuelle Welt der unzähligen Pilger ein. Wie schon seit Jahrhunderten üblic
 h\, sind sie auf ihren rituellen Koras unterwegs. Dabei lassen Sie unermüd
 lich ihre Gebetsmühlen kreisen und mumrmeln gleichzeitig unaufhörlich ihr
 e Mantras. Bevor wir das Kloster Sera mit seinen debattierenden Mönchen au
 fsuchen\, machen wir noch einen Abstecher zum Norbulingka\, dem Juwelengart
 en. Hier stehen die Sommerpaläste der jeweiligen Dalai Lama.\nGebetsfahnen
  Nach dem Gewöhnen an diese extrem sauerstoffarme Luft verlassen wir Lhasa
 . Wir fahren über Bergpässe\, die mit hunderten von Gebetsfahnen überspa
 nnt sind. Der Wind soll die aufgedruckten Gebete über das Land verbreiten 
 und allen Lebewesen Glück bringen.\nJahrtausende alte Klosterkultur Faszin
 ierend sind auch die zahlreichen Klöster und die gelebte Spiritualität in
  der alltäglichen Welt der Tibeter. Zu erleben\, wie die Mönche im spärl
 ichen Schein der Butterlampen ihre Puja (Gebetszeremonie) mit dem unnachahm
 lichen Sprechgesang zelebrieren\, ist ein ebenso unvergleichliches wie einz
 igartiges Erlebnis. Auch der Besuch der Kumbum-Chörte in Gyantse mit ihren
  unzähligen Buddha-Bildnissen wird Sie in ihren Bann ziehen.\nTickets beko
 mmen Sie (an der Abendkasse) im Wohnstift in Karlsruhe.
LOCATION:Wohnstift Karlsruhe e.V.\, Erlenweg 2\, 76199 Karlsruhe
DTSTAMP:20260423T145847Z
DTSTART:20261102T150000Z
DTEND:20261102T161000Z
END:VEVENT
END:VCALENDAR
