BEGIN:VCALENDAR
VERSION:2.0
PRODID:-//Eventin//Event Calendar//EN
CALSCALE:GREGORIAN
METHOD:PUBLISH
BEGIN:VEVENT
UID:62e5ae415109b18c2cac6c99b7da28dd@www.saarpfalz-lichtblicke.de
SUMMARY:Hurtigruten - Norwegen mit den Postschiffen – 25. April 2027 – 
 Neunkirchen
DESCRIPTION:Hurtigruten - Norwegen mit den PostschiffenIn seiner live komme
 ntierten Multivision stellt Ihnen der Reisefotograf und Vortragsreferent An
 dreas Huber die attraktivsten Reiseziele von Hurtigruten vor. Nur an wenige
 n Orten der Welt finden Sie so viele verschiedene spektakuläre Landschafte
 n wie in Norwegen. Seit 2007 hat der Fotograf das Land zu allen Jahreszeite
 n bereist und auf seinen Touren viele Tage auf den Postschiffen von Hurtigr
 uten verbracht. Das Land der Fjorde mit seiner wildromantischen Schönheit 
 ist ein Paradies für jeden Reisenden.\nSeit seiner ersten Norwegen-Reise i
 m Jahr 2007 ist der Fotograf ein Fan dieser Schiffsverbindung entlang der n
 orwegischen Küste. Neben mehreren regulären Hurtigruten-Touren hat er wie
  viele Norweger übrigens auch\, während seiner Norwegen-Reisen\, die Schi
 ffe als reine Fährverbindung von Hafen zu Hafen genutzt. Heute wie auch da
 mals werden Passagiere und Fracht entlang der norwegischen Küste transport
 iert. So wird gerade die Bevölkerung im Norden des Landes mit Lebensmittel
 n\, Post und allen möglichen Materialien und Produkten versorgt. Hierbei h
 andelt es sich vielfach um Orte\, die auf dem Landweg kaum oder nur schwer 
 zu erreichen sind. Es ist auch heute noch ein besonderes Erlebnis\, das Be-
  und Entladen der Fracht zu beobachten. Sie erhalten dabei einen unverfäls
 chten Eindruck vom Alltag der norwegischen Hafenstädte.\nHurtigrutenSeit 1
 25 Jahren sind die Postschiffe im Liniendienst an der norwegischen Küste u
 nterwegs\, nach einer turnusmäßigen Ausschreibung muss sich Hurtigruten a
 llerdings ab 2021 den Liniendienst für zunächst zehn Jahre mit Havila Voy
 ages Kystruten teilen. Statt der bisher 11 Schiffe\, darf Hurtigruten nur n
 och 7 Schiffe im Rahmen der staatlichen Konzession einsetzen. Da beide Betr
 eiber im Auftrag des norwegischen Staates die Linie bedienen\, sind die Fah
 rpläne und die angelaufenen Häfen identisch. Jeden Tag\, egal ob Sommer o
 der Winter\, läuft eines von elf ganz unterschiedlichen Schiffen in Bergen
  aus und erreicht am zwölften Tag wieder Bergen.Egal zu welcher Jahreszeit
  und mit welchem Anbieter Sie reisen\, es erwarten Sie atemberaubende Fjord
 e\, majestätische Berge\, die Inselwelt der Lofoten\, der enge Trollfjord\
 , der nördliche Polarkreis\, das Nordkap… Und während das Schiff bei ei
 ner winterlichen Reise lautlos durch die Landschaft gleitet\, ereignet sich
  ein Schauspiel\, das viele Passagiere schon sehnlichst erwartet haben\, di
 e Polarlichter erscheinen und tanzen flackernd in den verschiedensten Grün
 tönen über den Nachthimmel.\nAls kleine Zugabe gibt es dann noch einen ku
 rzen Abstecher nach Spitzbergen\, in das Land der Eisbären. Dieser Abstech
 er gehört aber nicht zur „normalen“ Linie der Postschiffe. Die Fahrt d
 urch die norwegische Natur wird Ihre Augen kaum zur Ruhe kommen lassen\, ei
 n Wunder der Natur reiht sich an das nächste.\n"Ja wir lieben dieses Land.
 .." - so beginnt die norwegische Nationalhymne. Diesem Satz scheint sich di
 e Mehrheit der Norwegen-Besucher anzuschließen\, denn es ist sicher kein Z
 ufall\, dass die meisten Menschen die Norwegen einmal bereist haben\, immer
  wieder zurückkommen.Sie erwartetAufgrund seiner Norwegen-Kenntnisse wurde
  Huber schon häufig von Hurtigruten selbst für spezielle Kundenabende & R
 eisemessen engagiert und auch an Bord von TUI Mein Schiff durfte er sein Wi
 ssen als Landeskundlicher Lektor an die Passagiere weitergeben.Andreas Hube
 r hat Ihnen mit faszinierenden Fotos und High-Definition-Filmsequenzen eine
  eindrucksvolle Dokumentation zusammengestellt. In seinem informativen und 
 interessanten Live-Kommentar erfahren Sie viel vom Alltag auf den Postschif
 fen\, den angebotenen Ausflügen und der magischen Natur entlang der norweg
 ischen Küstenlinie. Vor und nach der Show steht Ihnen der Referent gerne f
 ür Ihre persönlichen Fragen zur Verfügung.\nDas Fernweh gibt es gratis d
 azu!\nReisebroschüre:Bei meinen Shows können Sie eine 88-seitige-Norwegen
 -Reisebroschüre im DIN-A5-Format zum Preis von 8\,50 € erwerben. Selbstv
 erständlich sende ich Ihnen die Broschüre mit einem geringen Portoaufschl
 ag auch gerne auf dem Postweg zu.\nDiese Veranstaltung ist auch bei Ticket 
 Regional buchbar:\n 
LOCATION:Stummsche Reithalle\, Saarbrücker Straße 21\, 66538 Neunkirchen 
 / Saar
DTSTAMP:20260423T150032Z
DTSTART:20270425T150000Z
DTEND:20270425T173000Z
END:VEVENT
END:VCALENDAR
