BEGIN:VCALENDAR
VERSION:2.0
PRODID:-//Eventin//Event Calendar//EN
CALSCALE:GREGORIAN
METHOD:PUBLISH
BEGIN:VEVENT
UID:3910e197b7aeb706053b323c0f877ecd@www.saarpfalz-lichtblicke.de
SUMMARY:Namibia – Die Schönheit Afrikas 25. Januar 2027 – Bad Kreuznac
 h
DESCRIPTION:Namibia\, die ehemalige Kolonie "Deutsch-Südwest-Afrika"\nNami
 bia\, die ehemalige Kolonie "Deutsch-Südwest-Afrika"\, ist angeblich das t
 rockenste Land südlich der Sahara und gilt heute als eine der Top-Reisedes
 tinationen des schwarzen Kontinents. Der Name des Staates leitet sich von d
 er Wüste Namib ab. Namibia ist flächenmäßig fast doppelt so groß wie D
 eutschland\, hat aber nur ca. 2\,2 Millionen Einwohner.\nWindhoek\, Kolmans
 kuppe & SwakopmundWir beginnen die Reise in der Hauptstadt Windhoek\, wo ma
 n immer wieder auf Zeichen der deutschen Kolonialzeit stößt und besuchen 
 auch Katutura\, die Vorstadt die in den 1950er Jahren im Rahmen der südafr
 ikanischen Apartheidpolitik als Wohngebiet zur Rassentrennung entanden ist.
 Kolmannskuppe wurde Anfang des 20. Jahrhunderts im Diamanten-rausch erbaut 
 und bot inmitten der Wüste jeden erdenklichen Luxus: ein Schwimmbad\, eine
  Eisfabrik\, Kegelbahnen\, ein Ballsaal und luxuriöse Häuser wurden für 
 die Arbeiter errichtet. Der kleine Ort schwang sich kurzfristig zur reichst
 en Stadt Afrikas auf\, bis der Diamantenabbau in den 1930er Jahren eingeste
 llt wurde. Heute ist Kolmannskuppe nur noch reich an Touristen\, die in den
  versandeten Häusern nach Geschichten aus den früheren Zeiten suchen.Spä
 ter besuchen wir auch noch die wohl deutscheste Stadt Afrikas: Swakopmund. 
 Über 10.000 km von Zuhause entfernt\, ist überall Deutsch zu hören und a
 uch zu lesen. Als krasser Gegensatz zu Swakopmund steht der Besuch in einem
  afrikanischen Kral im Caprivistreifen\, in dem Andreas Huber die Erlaubnis
  zum fotografieren erhielt.\nLandschaftDas Matterhorn Namibias\, die Spitzk
 oppe\, ist der wohl meistfotografierte Berg Namibias. Das Felsmassiv aus Gr
 anitgestein bietet unzählige Motive. Und wenn es Nacht wird\, erstrahlt ei
 n prachtvoller Sternenhimmel. Milliarden von Sternen funkeln aus der Dunkel
 heit und die bei uns kaum sichtbare Milchstraße leuchtet extrem hell - ein
  Paradies für Sternengucker. Aber auch die Region rund um den Brandberg mi
 t den bekannten Felsgzeichnungen von Tywfelfontein darf nicht fehlen.\nSafa
 riHierzu zeigt der Fotograf beeindruckende Bilder aus dem Etosha-Nationalpa
 rk\, dem wohl bekanntesten Tierschutzreservat in Namibia. Und auch die Nami
 b-Wüste\, die als sehr lebensfeindlich gilt\, steckt voller Leben - lassen
  Sie sich überraschen. In der Erongo-Region steht zudem der Besuch beim Ch
 eetah Conservation Fund an\, einer Umweltschutz-organisation\, die sich den
  Schutz der Geparde zum Ziel gesetzt hat. Eine tolle Gelegenheit diese eleg
 anten Raubkatzen einmal aus der Nähe zu erleben.\nVictoriafälleAls der le
 gendäre Afrikaforscher David Livingstone 1855 die riesigen Wasserfälle f
 ür die Europäer entdeckte\, wählte er zu Ehren der damaligen britischen 
 Königin den Namen Victoriafälle. Livingstone sprach bei dem Anblick diese
 s gigantischen Naturschauspiels von dem wundervollsten Anblick\, der sich i
 hm in Afrika geboten hat. Andreas Huber hat die Vitoriafälle an der Grenze
  zwischen Sambia und Simbabwe auch aus dem Hubschrauber heraus fotografiert
 . Die Einheimischen nennen die Fälle Mosi-Oa-Tunya\, Rauch der donnert.\nN
 amib-Wüste:Selbstverständlich kann die Reise durch Namibia nicht ohne ein
 en Besuch des rotgoldenen Dünenmeeres rund um die Region des Sossusvlei en
 den. Die abgestorbenen Akazienbäume lassen das Herz eines jeden Fotografen
  schneller schlagen. Im weichen Licht am Morgen präsentiert sich die Namib
  von einer ihrer schönsten Seiten\, nun findet man fast paradiesische Lich
 tverhältnisse und Fotomotive im Überfluss.\nSie erwartetWüste - Wildnis 
 - Weite: Namibias Landschaften sind legendär. Andreas Huber spannt einen f
 aszinierenden Bilderbogen der wunderschönen Landschaft und Tierwelt Namibi
 as. Genießen Sie traumhafte Reiseimpressionen und viele unterhaltsame\, hu
 morvolle und spannende Geschichten aus dem südlichen Afrika\, einer Region
  der Kontraste und schillernden Gegensätze.\nReisebroschüre:Bei meinen Sh
 ows können Sie eine 68-seitige-Reisebroschüre im DIN-A5-Format zum Preis 
 von 8\,50 € erwerben. Selbstverständlich sende ich Ihnen die Broschüre 
 mit einem geringen Portoaufschlag auch gerne auf dem Postweg zu.\nDiese Ver
 anstaltung ist auch bei Ticket Regional buchbar:\n 
LOCATION:Haus des Gastes\, Kurhausstraße 22-24\, 55543 Bad Kreuznach
DTSTAMP:20260423T145847Z
DTSTART:20270125T183000Z
DTEND:20270125T204500Z
END:VEVENT
END:VCALENDAR
