BEGIN:VCALENDAR
VERSION:2.0
PRODID:-//Eventin//Event Calendar//EN
CALSCALE:GREGORIAN
METHOD:PUBLISH
BEGIN:VEVENT
UID:579f9babaf401a8aa2798490ee48eff5@www.saarpfalz-lichtblicke.de
SUMMARY:Namibia – Die Schönheit Afrikas 13. Januar 2027 – Kurstift Bad
  Homburg - Teil 1
DESCRIPTION:Namibia\, die ehemalige Kolonie "Deutsch-Südwest-Afrika"\nIm e
 rsten Teil seiner aktuellen\, komplett neu arrangierten und wie immer live 
 kommentierten Namibia-Reportage stellt Ihnen der Reisefotograf Andreas Hube
 r die grandiosen Landschaften und Tierparadiese Namibias vor. Spüren Sie d
 en Zauber und die Anziehungskraft der Wüste\, lassen Sie sich fesseln von 
 der Magie der Farben und lernen Sie die Wunder der Natur in Namibia kennen 
 - einem Land\, das einen unwiderstehlichen Zauber ausstrahlt.\nNamibia\, di
 e ehemalige Kolonie „Deutsch-Südwest-Afrika“\, gilt als das trockenste
  Land südlich der Sahara. Wir beginnen die Reise in Namibias Hauptstadt Wi
 ndhoek\, in der man immer wieder auf Zeichen der deutschen Kolonialzeit st
 ößt und besuchen auch Katutura\, die Vorstadt die in den 1950er Jahren im
  Rahmen der südafrikanischen Apartheidpolitik als Wohngebiet zur Rassentre
 nnung entstanden ist.\nNatürlich darf auch die Tierbeobachtung nicht fehle
 n. Hierzu zeigt der Fotograf beeindruckende Bilder aus dem Etosha-Nationalp
 ark\, dem wohl bekanntesten Tierschutzreservat in Namibia. Und ganz im Nord
 en\, in der Sambesi-Region\, geht es am Zusammenfluss des Chobe und Sambesi
  mit kleinen Booten auf Safari. Die mächtigen Victoriafälle\, wo die Wass
 ermassen auf einer Breite von rund 1700 Metern in die Tiefe stürzen\, geh
 ören zu den spektakulärsten Naturwundern Afrikas.\nWüste -  Wildnis - W
 eite: Namibias Landschaften sind legendär. Andreas Huber spannt einen fasz
 inierenden Bilderbogen der wunderschönen Landschaft\, der traditionellen L
 ebensweise der Ureinwohner und der Tierwelt Namibias.  Genießen Sie traum
 hafte Reiseimpressionen und viele unterhaltsame\, humorvolle und spannende 
 Geschichten aus dem südlichen Afrika\, einer Region der Kontraste und schi
 llernden Gegensätze.\nEine Reise durch diesen Teil Afrikas ist ein Abenteu
 er\, und doch muss man kein Abenteurer sein\, um dieses faszinierende Land 
 zu erleben.\nTickets bzw. Anmeldungen für diese Veranstaltung bitte im Kur
 stift in Bad Homburg anfragen.
LOCATION:Kurstift gGmbH Bad Homburg\; Kaiser-Friedrich-Promenade 57a\; 6134
 8 Bad Homburg
DTSTAMP:20260423T145903Z
DTSTART:20270113T180000Z
DTEND:20270113T190000Z
END:VEVENT
END:VCALENDAR
