BEGIN:VCALENDAR
VERSION:2.0
PRODID:-//Eventin//Event Calendar//EN
CALSCALE:GREGORIAN
METHOD:PUBLISH
BEGIN:VEVENT
UID:17d10b3a35f7841c6f4cafcdf087d3a2@www.saarpfalz-lichtblicke.de
SUMMARY:Namibia – Die Schönheit Afrikas 03. Februar 2027 – Kurstift Ba
 d Homburg - Teil 2
DESCRIPTION:Namibia\, die ehemalige Kolonie "Deutsch-Südwest-Afrika"\nIm z
 weiten Teil seiner aktuellen\, komplett neu arrangierten und wie immer live
  kommentierten Namibia-Reportage stellt Ihnen der Reisefotograf Andreas Hub
 er die grandiosen Landschaften und Tierparadiese Namibias vor. Spüren Sie 
 den Zauber und die Anziehungskraft der Wüste\, lassen Sie sich fesseln von
  der Magie der Farben und lernen Sie die Wunder der Natur in Namibia kennen
  - einem Land\, das einen unwiderstehlichen Zauber ausstrahlt.\nIm San-Livi
 ng-Museum kann man in die Welt der ehemaligen Ureinwohner Afrikas eintauche
 n und viel über die frühere Lebensweise der San\, oder der Buschmänner w
 ie sie auch genannt werden\, erfahren. Jahrtausende waren sie als reine Jä
 ger und Sammler in den Wüsten und Savannen Afrikas unterwegs. Doch durch d
 en Landentzug und das Verbot der freien Jagd verlieren die San ihre traditi
 onellen Lebensweisen – ihre Kultur und ihr tiefes Verständnis für die N
 atur ist extrem bedroht.\nDas Matterhorn Namibias\, die Spitzkoppe\,  ist 
 der wohl meistfotografierte Berg Namibias. Das Felsmassiv aus Granitgestein
  bietet unzählige Motive. Und wenn es Nacht wird\, erstrahlt ein prachtvol
 ler Sternenhimmel. Milliarden von Sternen funkeln aus der Dunkelheit und di
 e bei uns kaum sichtbare Milchstraße leuchtet extrem hell - ein Paradies f
 ür Sternengucker.\nKolmannskuppe wurde Anfang des 20. Jahrhunderts im Diam
 antenrausch erbaut und bot inmitten der Wüste jeden erdenklichen Luxus: ei
 n Schwimmbad\, eine Eisfabrik\, Kegelbahnen\, ein Ballsaal und luxuriöse H
 äuser wurden für die Arbeiter errichtet. Der kleine Ort schwang sich kurz
 fristig zur reichsten Stadt Afrikas auf\, bis der Diamantenabbau in den 193
 0er Jahren eingestellt wurde. Heute ist Kolmannskuppe nur noch reich an Tou
 risten\, die in den versandeten Häusern nach Geschichten aus früheren Zei
 ten suchen.\nSpäter besuchen wir auch noch die wohl deutscheste Stadt Afri
 kas: Swakopmund. Über 10.000 km von Zuhause entfernt\, ist überall Deutsc
 h zu hören und auch zu lesen. Und selbst die Namib-Wüste\, die als sehr l
 ebensfeindlich gilt\, steckt voller Leben - lassen Sie sich überraschen.\n
 Selbstverständlich kann die Reise durch Namibia nicht ohne einen Besuch de
 s rotgoldenen Dünenmeeres rund um die Region des Sossusvlei enden. Die abg
 estorbenen Akazienbäume lassen das Herz eines jeden Fotografen schneller s
 chlagen. Im weichen Licht am Morgen präsentiert sich die Namib von einer i
 hrer schönsten Seiten\, als Fotograf*in findet man fast paradiesische Lich
 tverhältnisse und Fotomotive im Überfluss.\nWüste -  Wildnis - Weite: N
 amibias Landschaften sind legendär. Andreas Huber spannt einen faszinieren
 den Bilderbogen der wunderschönen Landschaft\, der traditionellen Lebenswe
 ise der Ureinwohner und der Tierwelt Namibias.  Genießen Sie traumhafte R
 eiseimpressionen und viele unterhaltsame\, humorvolle und spannende Geschic
 hten aus dem südlichen Afrika\, einer Region der Kontraste und schillernde
 n Gegensätze.\nEine Reise durch diesen Teil Afrikas ist ein Abenteuer\, un
 d doch muss man kein Abenteurer sein\, um dieses faszinierende Land zu erle
 ben.\nTickets bzw. Anmeldungen für diese Veranstaltung bitte im GDA Hildas
 tift in Wiesbaden anfragen.
LOCATION:Kurstift gGmbH Bad Homburg\; Kaiser-Friedrich-Promenade 57a\; 6134
 8 Bad Homburg
DTSTAMP:20260423T145955Z
DTSTART:20270203T180000Z
DTEND:20270203T190000Z
END:VEVENT
END:VCALENDAR
