BEGIN:VCALENDAR
VERSION:2.0
PRODID:-//Eventin//Event Calendar//EN
CALSCALE:GREGORIAN
METHOD:PUBLISH
BEGIN:VEVENT
UID:681b824a95f43b5e17524dd52fbc57c2@www.saarpfalz-lichtblicke.de
SUMMARY:Island - Naturparadies im Nordatlantik – 15. November 2026 – Bi
 ngen am Rhein
DESCRIPTION:ISLAND  -  Naturparadies im NordatlantikSeit 25 Jahren bereis
 t Andreas Huber die faszinierende Vulkaninsel im Nordatlantik regelmäßig.
  Hier auf Island sind die gigantischen Kräfte der Natur hautnah zu spüren
 . Riesige Gletscher\, mächtige Wasserfälle\, bizarre Lavalandschaften und
  manchmal auch bedrohliche Aschewolken. Die gigantischen isländischen Natu
 rgewalten zeigen einem immer wieder\, wie klein man als Mensch doch ist. Ab
 er trotz der regelmäßigen Besuche\, hat die Insel aus Feuer und Eis nie a
 n Reiz für den Fotografen verloren.\nIsland ist ein wahres Eldorado für j
 eden Naturliebhaber. In unzähligen Hochtemperaturgebieten dampft\, brodelt
  und zischt es unaufhörlich. Geysire schießen Wasserfontänen meterhoch i
 n den Himmel und daneben blubbert es aus unzähligen Schlammtöpfen. Im Geg
 ensatz dazu stehen die mächtigen Gletscher und die zahlreichen Wasserfäll
 e Islands. Die bunten Berge Islands erscheinen in ihrer Farbintensität ger
 adezu surreal\, die archaischen Landschaften im rauen und oft auch schroffe
 n Hochland scheinen nicht von dieser Welt zu sein. Und wenn dann in den Win
 termonaten noch das Polarlicht am Himmel tanzt…\nAuch die bezaubernde Tie
 rwelt kommt natürlich nicht zu kurz\, neben den allgegenwärtigen Islandpf
 erden darf ein Besuch in den Vogelbrutgebieten mit den putzigen Papageitauc
 hern und den angriffslustigen Küstenseeschwalben nicht fehlen. Es sind abe
 r immer auch die Begegnungen mit den Menschen\, die viel vom Reiz eines Lan
 des ausmachen. Freuen Sie sich auf einige außergewöhnliche und skurrile B
 egegnungen.\nAndreas Hubers aktualisierte Reisereportage ist eine einfühls
 ame Liebeserklärung an die Insel aus Feuer und Eis. In gewohnt perfekter d
 igitaler Projektion mit brillanten Standbildern\, Videosequenzen\, sorgsam 
 ausgesuchter Musikunterlegung und einem packendem Live-Kommentar erhalten S
 ie viele wertvolle Tipps und Informationen für eine eigene Erkundung von I
 sland\, dem Naturparadies im Nordatlantik.\nVorsicht: Die Show kann akute R
 eiselust auslösen.\nTickets für diese Veranstaltung bekommen Sie auch bei
 :                            (Hier können allerdings zus
 ätzliche Verkaufsgebühren anfallen)
LOCATION:Kulturzentrum\, Freidhof 11\, 55411 Bingen am Rhein
DTSTAMP:20260423T145853Z
DTSTART:20261115T160000Z
DTEND:20261115T183000Z
END:VEVENT
END:VCALENDAR
