BEGIN:VCALENDAR
VERSION:2.0
PRODID:-//Eventin//Event Calendar//EN
CALSCALE:GREGORIAN
METHOD:PUBLISH
BEGIN:VEVENT
UID:b62e23e2de55bdcd3fa92f0b95879cee@www.saarpfalz-lichtblicke.de
SUMMARY:Norwegen - Land der Fjorde – 09. März 2027 – Homburg / Saar
DESCRIPTION:In seiner komplett neu arrangierten Live-Multivision stellt Ihn
 en der Reisefotograf und  Vortragsreferent Andreas Huber die attraktivsten
  Reiseziele Norwegens vor. Seit 20 Jahren durchstreift er mit seiner Fotoau
 srüstung die wildromantischen Landschaften Norwegens und sammelt dabei Auf
 nahmen voller Zauber und Magie.\nDas Land der Fjorde mit seiner wildromanti
 schen Schönheit ist ein Paradies für jeden Reisenden. Nur an wenigen Orte
 n der Welt finden Sie so viele verschiedene spektakuläre Landschaften wie 
 in Norwegen. Zu Fuß\, mit dem Auto\, per Bahn oder mit dem Schiff lernen S
 ie Norwegen mit seinen Kulturschätzen kennen.\nLofotenDie grandiose Naturk
 ulisse der Lofoten bietet einen Anblick\, den man wahrscheinlich nie vergis
 st. Die wild zerklüfteten Berggipfel ragen bis zu 1200 m hoch aus dem Nord
 atlantik und auch heute noch\, bildet der Fischfang für viele Bewohner die
  Existenzgrundlage. Gerade in den Wintermonaten liegt in der herrlich klare
 n Luft überall das Aroma des berühmten Stockfisches.Touristische Highligh
 tsSchäumende Wasserfälle\, tiefblaue Seen\, mächtige Berge mit schroffen
  Felsformationen und schier endlose Hochebenen säumen den Weg durch Norweg
 en. Selbstverständlich besuchen wir auch die touristischen Highlights wie 
 etwa die Serpentinenstraße Trollstigen\, oder einige dieser noch erhaltene
 n\, oft sehr mystisch anmutenden Stabkirchen die noch aus dem Mittelalter s
 tammen. Auch einige der bekanntesten Fjorde werden besucht\, wie z.b. der G
 eirangerfjord\, der Hardangerfjord zur Obstbaumblüte und am Aurlandsfjord 
 steht eine Fahrt mit der bekannten Flambahn auf dem Programm. "Ja wir liebe
 n dieses Land..." - so beginnt die norwegische Nationalhymne. Diesem Satz s
 cheint sich die Mehrheit der Norwegen-Besucher anzuschließen\, denn es ist
  sicher kein Zufall\, dass die meisten Menschen die Norwegen einmal bereist
  haben\, immer wieder zurückkommen.Sie erwartetAndreas Huber präsentiert 
 die bildgewaltige Norwegen-Reportage in gewohnt perfekter digitaler Projekt
 ion mit brillanten Standbildern\, High-Definition-Filmsequenzen und sorgsam
  ausgesuchter Musikuntermalung. In seinem informativen und interessanten Li
 vekommentar erhalten Sie viele wertvolle Tipps für eine eigene Erkundung v
 on Norwegen\, dem Land der Fjorde. Aufgrund meiner Norwegen-Kenntnisse wurd
 e ich schon häufig von Hurtigruten für spezielle Kundenabende & Reisemess
 en engagiert\, Sie konnten mich ebenfalls auch an Bord von TUI Mein Schiff 
 als Landeskundlicher Lektor antreffen.\nReisebroschüre:Bei meinen Shows k
 önnen Sie eine 52-seitige-Reisebroschüre im DIN-A5-Format zum Preis von 8
 \,50 € erwerben. Selbstverständlich sende ich Ihnen die Broschüre mit e
 inem geringen Portoaufschlag auch gerne auf dem Postweg zu.\nDiese Veransta
 ltung ist auch bei Ticket Regional buchbar:\n 
LOCATION:Kulturzentrum Saalbau\, Obere Allee 1\, 66424 Homburg
DTSTAMP:20260423T145821Z
DTSTART:20270309T183000Z
DTEND:20270309T204500Z
END:VEVENT
END:VCALENDAR
