BEGIN:VCALENDAR
VERSION:2.0
PRODID:-//Eventin//Event Calendar//EN
CALSCALE:GREGORIAN
METHOD:PUBLISH
BEGIN:VEVENT
UID:753631a5ae1031ec8d4125bf2403fcd9@www.saarpfalz-lichtblicke.de
SUMMARY:Schottland erleben – 01. Februar 2027 – Kulisse Kino Ettlingen
DESCRIPTION:Urwüchsige NaturlandschaftenAltehrwürdige Burgen\, gewaltige 
 Kloster-Ruinen\, prähistorische Siedlungen und magische Steinkreise geben 
 einen Vorgeschmack auf die mystische Aura\, die Sie hier erwartet. Und wenn
  Sie immer schon einmal wissen wollten\, wie der schottische Whisky hergest
 ellt wird\, wo Nessie lebt und warum Männer in Röcken Baumstämme werfen\
 , dann sind Sie in dieser Live-Reportage genau richtig. Aber Schottland ist
  mehr als nur das Land der Dudelsäcke und der traditionellen Kilts\, mehr 
 als die Heimat des Whiskys und historischer Stätten.\nGeschichtliche Highl
 ightsDie Geschichte Schottlands ist ein fortwährender Kampf\, sich von Eng
 land zu lösen. Es geht um blutige Schlachten voller Gewalt und Leid\, die 
 vielen Kämpfe brachten große schottische Heldenen hervor\, aber auch uns
 ägliches Leid über die einfache Bevölkerung. Viele Traditionen\, Legende
 n und mitreißende Geschichten wurden von Generation zu Generation weiterge
 geben und so wundert es nicht\, dass die unzähligen kulturellen und histor
 ischen Sehenswürdigkeiten den Fotografen wie magisch anziehen\, denn hier 
 lebt der Mythos von Schottland.\nMenschenImmer sind es auch die Begegnungen
  mit den Menschen\, die so viel vom Reiz eines Landes ausmachen. Ich lernte
  viele faszinierende und sehr herzliche Menschen kennen und muss nicht lang
 e nach Gründen suchen\, um sich in Schottland zu verlieben.\nEdinburghNat
 ürlich besuchen wir auch die schottische Hauptstadt Edinburgh\, die oft al
 s das Athen des Nordens beschrieben wird. Im Gegensatz dazu gilt Glasgow al
 s Arbeiterstadt\, dieses Image hat man aber so langsam abgelegt und gilt al
 s das kulturelle und moderne Herz Schottlands. Natürlich stehen auch weite
 re Städte wie Aberdeen\, Dundee oder Stirling auf dem Besuchsprogramm.\nSi
 e erwartetAndreas Huber präsentiert die faszinierende Schottland-Reportage
  in gewohnt perfekter digitaler Projektion mit brillanten Standbildern\, Hi
 gh-Definition-Filmsequenzen und sorgsam ausgesuchter Musikunterlegung. In s
 einem ebenso humorvollen wie informativen Livekommentar erhalten Sie viele 
 wertvolle Reisetipps um Schottland selbst zu erleben.\nReisebroschüreBei m
 einen Shows können Sie meine Reisebroschüre im DIN-A5-Format zum Preis vo
 n 8\,50 € erwerben. Selbstverständlich sende ich Ihnen die Broschüre mi
 t dem aktuellen Portoaufschlag auch gerne auf dem Postweg zu.\nTickets für
  diese Veranstaltung gibt es in der Kino Kulisse in Ettlingen
LOCATION:Kulisse Kino Ettlingen\, Am Dickhäuterplatz 16\, 76275 Ettlingen
DTSTAMP:20260421T164025Z
DTSTART:20270201T190000Z
DTEND:20270201T213000Z
END:VEVENT
END:VCALENDAR
