BEGIN:VCALENDAR
VERSION:2.0
PRODID:-//Eventin//Event Calendar//EN
CALSCALE:GREGORIAN
METHOD:PUBLISH
BEGIN:VEVENT
UID:29c8e061865f8cc9e741fdc1fa1de985@www.saarpfalz-lichtblicke.de
SUMMARY:Das Baltikum entdecken – 14. März 2027 – Neunkirchen / Saar
DESCRIPTION:Das Baltikum entdecken  -  Eine Reise durch Litauen\, Lettlan
 d\, Estland und KönigsbergSeit vielen Jahren bereisen die National Geograp
 hic Fotografen und Buchautoren Aneta und Dirk Bleyer diese geschichtsträch
 tigen Regionen Europas. In einer anspruchsvollen Multivision präsentieren 
 sie zusammen nicht nur die Landschaft in stimmungsvollen Bildern und Filmau
 fnahmen\, sondern sie begegnen auch vielen Menschen und erzählen von deren
  bewegten Schicksalen.\nJahrelang durch den Eisernen Vorhang abgeschottet\,
  ist die charmante Region im Herzen Europas für viele immer noch ein weiß
 er Fleck auf der Landkarte. Die kulturellen Reichtümer und landschaftliche
 n Schönheiten Baltikums sind weitgehend unbekannt. Mittlerweile rückt es 
 jedoch mehr und mehr in den Fokus des Weltgeschehens.\nNach der Entfesselun
 g aus der Sowjetherrschaft haben sich die baltischen Staaten Estland\, Lett
 land und Litauen sogleich nach Westen gewandt. Heute fasziniert das Baltiku
 m als eine weltoffene Reiseregion voller Kontraste\, kultureller Vielfalt u
 nd Überraschungen und gilt noch immer als Geheimtipp. Die drei Länder hab
 en vor allem eines gemeinsam: großartige\, einsame und weithin unberührte
  Landschaften\, sowie zahlreiche Seen\, Flüsse und Moore\, die zum Träume
 n und Genießen einladen.\nEinsame Landstraßen wechseln mit Stätten reich
 haltiger Kultur\, die durch die Historie der Hanse geprägt sind. Auf Schri
 tt und Tritt begegnet man Spuren der Ordensritter in Form von mächtigen Bu
 rgen. Die Hauptstädte Tallinn\, Riga und Vilnius sind geprägt von einer r
 eichen und vielfältigen Architektur und schlagen dabei die Brücke zum mod
 ernen Europa.\nSeit langer Zeit kursieren Geschichten um die Zerrissenheit 
 der Bevölkerung zwischen den baltischen Staatsbürgern und der angesiedelt
 en russischen Bevölkerungsschicht aus der Sowjetzeit. Doch mit Einmarsch d
 er russischen Armee in der Ukraine ändert sich das Bild dramatisch. Verän
 derungen\, von denen viele Menschen\, die die Fotojournalisten treffen\, er
 zählen und die ein neues Licht auf die Beziehung werfen.\nAuch Königsberg
 \, die Hauptstadt des alten Ostpreußens und heutige Kaliningrad ist von Ve
 ränderungen nicht ausgenommen. Ein Abstecher in diese politisch sensible R
 egion beantwortet alte und wirft gleichzeitig neue Fragen auf. Sie sind ein
 geladen\, diese wunderbare Region Europas landschaftlich und kulturell (neu
 ) zu entdecken und den bewegenden Lebensgeschichten aller Schichten der Bev
 ölkerung zu lauschen.\nAneta und Dirk Bleyer zieht es seit über zwei Jahr
 zehnten immer wieder in die verträumte Landschaft\, die von romantischen S
 een und stillen Mooren durchzogen ist\, und wo die deutschen Spuren bis in 
 die Epoche der Kreuzritter zurückreichen. In ihrer poetischen Bilderschau 
 sind es nicht nur die herzlichen Bewohner und ländlichen Nachbarn der Metr
 opolen Tallinn\, Riga und Vilnius\, die tiefe Eindrücke hinterlassen. Viel
 mehr nehmen die Bleyers die einzigartige Mischung aus stimmungsvoller Natur
 \, reichhaltigen kulturellen Einflüssen und einer bewegten Geschichte in d
 en Fokus. Das Baltikum ist mehr als eine zauberhafte Region. Es ist ein Lan
 dstrich\, den es zu entdecken gilt.\nDiese Veranstaltung ist auch bei Ticke
 t Regional buchbar:\n 
LOCATION:Stummsche Reithalle\, Saarbrücker Straße 21\, 66538 Neunkirchen 
 / Saar
DTSTAMP:20260425T103239Z
DTSTART:20270314T160000Z
DTEND:20270314T181500Z
END:VEVENT
END:VCALENDAR
