BEGIN:VCALENDAR
VERSION:2.0
PRODID:-//Eventin//Event Calendar//EN
CALSCALE:GREGORIAN
METHOD:PUBLISH
BEGIN:VEVENT
UID:5ded2ba7e66e01f103a7d0b7e4650f6d@www.saarpfalz-lichtblicke.de
SUMMARY:Faszination Tibet - Reise zum heiligen Berg Kailash – 08. Dezembe
 r 2026 – Trier
DESCRIPTION:Ein außergewöhnliches ErlebnisTibet hat schon seit Jahrhunder
 ten die Phantasie der Europäer angeregt. Sensationelle Gebirgslandschaften
 \, Klöster in denen Mönche im flackernden Licht der Butterlampen ihre Geb
 ete rezitieren\, Nomaden die mit ihren Yaks durch die weiten Hochebenen zie
 hen und die bunte Welt des tibetischen Buddhismus machen eine Reise durch T
 ibet zu einem außergewöhnlichen Erlebnis.\nVon Lhasa nach ShigatseDie Rei
 se startet in der Landeshauptstadt Lhasa\, wo wir uns unter die tibetischen
  Pilger mischen und die ersten Eindrücke von diesem zutiefst gläubigen Vo
 lk bekommen. Selbstverständlich dürfen in Lhasa der Besuch des Jokhang-Te
 mpel\, des monumentalen Potala-Palastes sowie einiger wichtiger Klöster ni
 cht fehlen. Von Lhasa aus fahren wir über Gyantse nach Shigatse und kommen
  durch eine der fruchtbarsten Gegenden von Tibet. Wir können miterleben wi
 e die Hochlandgerste angebaut wird und im Herbst in purer Handarbeit mit de
 r Sichel abgeerntet wird. Schon seit Jahrhunderten werden die Felder und Pa
 rzellen unverändert auf die gleiche Art und Weise bearbeitet.\nMount Evere
 stDann führt die Fahrt entlang des Himalaya Hauptkamms vorbei am sechsthö
 chsten Berg der Erde\, dem Cho Oyu. Kurz darauf sehen wir den Mount Everest
 \, oder den Chomolungma\, wie ihn die Tibeter nennen. Es ist nicht nur die 
 sauerstoffarme Luft\, die einem den Atem raubt\, sondern auch die Farbenvie
 lfalt der Berge und Seen und diese unbeschreibliche Nähe zum Himmel\, der 
 fast zum Greifen nah ist.\nDer heilige Berg KailashUnd dann taucht er unver
 mittelt aus der Hochebene auf\, Majestätisch und alles andere überragend\
 , der heilige Mount Kailash. Die Tibeter nennen ihn Kang Rinpoche - Juwel d
 es Schnees. Durch seine exakte Pyramidenform\, die genau in alle vier Himme
 lsrichtungen zeigt und dadurch\, dass hier vier der mächtigsten Flüsse As
 iens entspringen\, hat der Kailash schon seit Lebzeiten die Phantasie der M
 enschen angerührt. Unter den zahlreichen heiligen Bergen Tibets nimmt der 
 Kailash eine besondere Stellung ein\, da sich seine spirituelle Bedeutung n
 icht nur auf den tibetischen Kulturraum beschränkt. Der Mount Kailash wird
  von vier unterschiedlichen Religionsgemeinschaften Asiens\, den Hindus\, J
 ainas\, Buddhisten und den Bönpos\, den Anhängern der vorbuddhistischen R
 eligion Tibets\, als heilig betrachtet und ist seit mehr als 1000 Jahren da
 s Ziel unzähliger Pilgerschaften.\nDas ehemalige Königreich von GugeCa. 2
 80 km weiter westlich vom Mount Kailash\, tief eingebettet in die bizarren 
 Schluchten des Sutlej-Flusses\, die in ihrer Form stark an den Grand Canyon
  erinnern\, liegen die Jahrhunderte alten Ruinen Tsaparang und Tholing\, di
 e letzten Zeugen des ehemaligen Königreiches von Guge. Die Jahrhunderte al
 ten Wandmalereien stellen zweifellos die wertvollste Hinterlassenschaft die
 ser uralten Dynastie dar.\nNomadenAuf der Rückfahrt nach Lhasa steht noch 
 der Besuch bei den tibetischen Nomaden auf dem Programm. Bei der Begegnung 
 mit den Drokpas (Mensch der Einsamkeit) und ihrer extrem herzlichen Ausstra
 hlung erleben wir noch einmal ganz eindringlich den Mythos Tibet.\nSie erwa
 rtetNeben der Fotografie und der landestypischen Musikauswahl\, habe ich au
 ch bei dieser Multivisionsshow wieder großen Wert auf eine informative und
  unterhaltsame Live-Moderation gelegt. Verknüpft mit der gewaltigen Landsc
 haft des Himalaya bleiben die unvergesslichen Begegnungen mit den Menschen 
 und die gelebte Spiritualität in der Glaubenswelt der Tibeter. Wenn man er
 leben darf\, wie zufrieden und fröhlich die Menschen trotz ihres harten Le
 bens sind\, dann kommt man als ein anderer Mensch aus Tibet zurück.\nReise
 broschüre:Bei meinen Shows können Sie eine 68-seitige-Reisebroschüre im 
 DIN-A5-Format zum Preis von 8\,50 € erwerben. Selbstverständlich sende i
 ch Ihnen die Broschüre mit einem geringen Portoaufschlag auch gerne auf de
 m Postweg zu.\nTickets für diese Veranstaltung gibt es auch im Broadway Fi
 lmtheater in Trier\n 
LOCATION:Broadway Filmtheater\, Paulinstraße 18\, 54292 Trier
DTSTAMP:20260423T145853Z
DTSTART:20261208T183000Z
DTEND:20261208T204500Z
END:VEVENT
END:VCALENDAR
