BEGIN:VCALENDAR
VERSION:2.0
PRODID:-//Eventin//Event Calendar//EN
CALSCALE:GREGORIAN
METHOD:PUBLISH
BEGIN:VEVENT
UID:cf3b154d54b6950af95771df63500f7f@www.saarpfalz-lichtblicke.de
SUMMARY:Schottland erleben – Teil 2 – 11. Mai 2026 – Überlingen
DESCRIPTION:Schottland erleben  -  Teil 2  (60-Minuten-Version)\nIn sein
 er neuen Reisereportage stellt Ihnen Andreas Huber Schottland vor\, ein Lan
 d mit vielen Gesichtern\, in dem die Vergangenheit so nah ist\, dass man si
 e schon fast zu spüren glaubt. Seit einigen Jahren bereist der Fotograf re
 gelmäßig die beeindruckenden Naturlandschaften vom südlichsten Punkt am 
 Mull of Galloway bis in den hohen Norden der Shetlandinseln.\nIm zweiten Te
 il der Show sind wir erst in einer Region mit vielen Whisky-Brennereien unt
 erwegs\, bevor wir versuchen dem Geheimnis um Nessie\, dem Seeungeheuer von
  Loch Ness auf die Spur zu kommen. Neben den Highlands auf dem Festland geh
 t es aber auch auf die Orkney- und Shetland-Inseln. Und nach Lewis & Harris
 \, die zu den Äußeren Hebriden gehören\, muss natürlich auch noch ein B
 esuch auf der Insel Skye zum Programm gehören.\nSchottland ist mehr als nu
 r das Land der Dudelsäcke und der traditionellen Kilts\, mehr als die Heim
 at des Whiskys und historischer Stätten. Neben den beliebten Klassikern ze
 igt Andreas Huber auch die raue Natur weniger bekannter Plätze abseits der
  Touristenpfade. Dabei begegnet er vielen faszinierenden und herzlichen Men
 schen\, die viel vom Charme des Landes ausmachen. Man muss nicht lange nach
  Gründen suchen\, um sich in Schottland zu verlieben.\nIn seinem ebenso hu
 morvollen wie informativen Live-Kommentar bekommen Sie viele wertvolle Reis
 einfos\, um Schottland selbst zu erleben.\nTickets bekommen Sie (an der Abe
 ndkasse) im Augustinum Überlingen.\nReisebroschüreBei meinen Shows könne
 n Sie meine Reisebroschüre im DIN-A5-Format zum Preis von 8\,50 € erwerb
 en. Selbstverständlich sende ich Ihnen die Broschüre mit dem aktuellen Po
 rtoaufschlag auch gerne auf dem Postweg zu.
LOCATION:Augustinum Überlingen\, Mühlbachstraße 2\, 88662 Überlingen
DTSTAMP:20260423T151851Z
DTSTART:20260511T163000Z
DTEND:20260511T173000Z
END:VEVENT
END:VCALENDAR
