BEGIN:VCALENDAR
VERSION:2.0
PRODID:-//Eventin//Event Calendar//EN
CALSCALE:GREGORIAN
METHOD:PUBLISH
BEGIN:VEVENT
UID:6fee0cd7b456696476a7fb73d074675a@www.saarpfalz-lichtblicke.de
SUMMARY:Traumhaftes Namibia 20. Mai 2026 – Hannover-Kleefeld
DESCRIPTION:Traumhaftes Namiba  -  Teil 1  (60-Minuten-Version)\nReisen 
 Sie mit Andreas Huber durch die grandiosen Landschaften und die sagenhaften
  Tierparadiese Namibias. Spüren Sie den Zauber und die Anziehungskraft der
  Wüste\, lassen Sie sich fesseln von der Magie der Farben und lernen Sie d
 ie Wunder der Natur in Namibia kennen - einem Land\, das einen unwiderstehl
 ichen Zauber ausstrahlt.\nNamibia\, die ehemalige Kolonie „Deutsch-Südwe
 st-Afrika“\, gilt als das trockenste Land südlich der Sahara. Wir beginn
 en die Reise in Namibias Hauptstadt Windhoek\, in der man immer wieder auf 
 Zeichen der deutschen Kolonialzeit stößt. Über 10.000 km von Zuhause ent
 fernt\, ist überall deutsch zu hören und auch zu lesen.\nNatürlich darf 
 auch die Tierbeobachtung nicht fehlen. Hierzu zeigt der Fotograf beeindruck
 ende Bilder aus dem Etosha-Nationalpark\, dem wohl bekanntesten Tierschutzr
 eservat in Namibia.\nAnschließend geht es in den früher so genannten Capr
 ivi-Streifen\, den die deutsche Kolonialmacht von den Briten in einem Tausc
 hgeschäft erhalten haben. Hier darf natürlich ein Abstecher zu den weltbe
 kannten Victoriafällen nicht fehlen.\nWüste - Wildnis - Weite: Namibias L
 andschaften sind legendär. Eine Reise durch diesen Teil Afrikas ist ein Ab
 enteuer\, und doch muss man kein Abenteurer sein\, um dieses faszinierende 
 Land zu erleben.\nTickets bekommen Sie (an der Abendkasse) im GDA Hannover-
 Kleefeld.\nReisebroschüre:Bei meinen Shows können Sie eine 68-seitige-Rei
 sebroschüre im DIN-A5-Format zum Preis von 8\,50 € erwerben. Selbstverst
 ändlich sende ich Ihnen die Broschüre mit einem geringen Portoaufschlag a
 uch gerne auf dem Postweg zu.
LOCATION:GDA Hannover-Kleefeld\, Osterfelddamm 12\, 30627 Hannover
DTSTAMP:20260423T151717Z
DTSTART:20260520T160000Z
DTEND:20260520T170000Z
END:VEVENT
END:VCALENDAR
