BEGIN:VCALENDAR
VERSION:2.0
PRODID:-//Eventin//Event Calendar//EN
CALSCALE:GREGORIAN
METHOD:PUBLISH
BEGIN:VEVENT
UID:a226e84f5a7ade8e6b591304079110e2@www.saarpfalz-lichtblicke.de
SUMMARY:Norwegen – 22. Mai 2026 – Hofgeismar
DESCRIPTION:Sakrisøy auf den Lofoten\nIn seiner komplett neu arrangierten 
 Live-Multivision stellt Ihnen der Reisefotograf und  Vortragsreferent Andr
 eas Huber die attraktivsten Reiseziele Norwegens vor. Seit 15 Jahren durchs
 treift er mit seiner Fotoausrüstung die wildromantischen Landschaften Norw
 egens und sammelt dabei Aufnahmen voller Zauber und Magie. Das Land der Fjo
 rde mit seiner wildromantischen Schönheit ist ein Paradies für jeden Reis
 enden. Nur an wenigen Orten der Welt finden Sie so viele verschiedene spekt
 akuläre Landschaften wie in Norwegen. Zu Fuß\, mit dem Auto\, per Bahn od
 er mit dem Schiff lernen Sie Norwegen mit seinen Kulturschätzen kennen.\nL
 ofotenDie grandiose Naturkulisse der Lofoten bietet einen Anblick\, den man
  wahrscheinlich nie vergisst. Die wild zerklüfteten Berggipfel ragen bis z
 u 1200 m hoch aus dem Nordatlantik und auch heute noch\, bildet der Fischfa
 ng für viele Bewohner die Existenzgrundlage. Gerade in den Wintermonaten l
 iegt in der herrlich klaren Luft überall das Aroma des berühmten Stockfis
 ches.Touristische HighlightsSchäumende Wasserfälle\, tiefblaue Seen\, mä
 chtige Berge mit schroffen Felsformationen und schier endlose Hochebenen s
 äumen den Weg durch Norwegen. Selbstverständlich besuchen wir auch die to
 uristischen Highlights wie etwa die Serpentinenstraße Trollstigen\, oder e
 inige dieser noch erhaltenen\, oft sehr mystisch anmutenden Stabkirchen die
  noch aus dem Mittelalter stammen. Auch einige der bekanntesten Fjorde werd
 en besucht\, wie z.b. der Geirangerfjord\, der Hardangerfjord zur Obstbaumb
 lüte und am Aurlandsfjord steht eine Fahrt mit der bekannten Flambahn auf 
 dem Programm. "Ja wir lieben dieses Land..." - so beginnt die norwegische N
 ationalhymne. Diesem Satz scheint sich die Mehrheit der Norwegen-Besucher a
 nzuschließen\, denn es ist sicher kein Zufall\, dass die meisten Menschen 
 die Norwegen einmal bereist haben\, immer wieder zurückkommen.Sie erwartet
 Andreas Huber präsentiert die bildgewaltige Norwegen-Reportage in gewohnt 
 perfekter digitaler Projektion mit brillanten Standbildern\, High-Definitio
 n-Filmsequenzen und sorgsam ausgesuchter Musikuntermalung. In seinem inform
 ativen und interessanten Livekommentar erhalten Sie viele wertvolle Tipps f
 ür eine eigene Erkundung von Norwegen\, dem Land der Fjorde. Aufgrund mein
 er Norwegen-Kenntnisse wurde ich schon häufig von Hurtigruten für speziel
 le Kundenabende & Reisemessen engagiert\, Sie konnten mich ebenfalls auch a
 n Bord von TUI Mein Schiff als Landeskundlicher Lektor antreffen.\nTickets 
 bekommen Sie (an der Abendkasse) im Generationenhaus Bahnhof Hümme in Hofg
 eismar.\nReisebroschüre:Bei meinen Shows können Sie eine 52-seitige-Reise
 broschüre im DIN-A5-Format zum Preis von 8\,50 € erwerben. Selbstverstä
 ndlich sende ich Ihnen die Broschüre mit einem geringen Portoaufschlag auc
 h gerne auf dem Postweg zu.
LOCATION:Generationenhaus Bahnhof Hümme e.V.\; Tiefenweg 12\; 34369 Hofgei
 smar
DTSTAMP:20260423T150745Z
DTSTART:20260522T173000Z
DTEND:20260522T194500Z
END:VEVENT
END:VCALENDAR
