BEGIN:VCALENDAR
VERSION:2.0
PRODID:-//Eventin//Event Calendar//EN
CALSCALE:GREGORIAN
METHOD:PUBLISH
BEGIN:VEVENT
UID:e0604206a4a8f53976c670597e041c10@www.saarpfalz-lichtblicke.de
SUMMARY:Norwegen – 21. Mai 2026 – Hannover-Waldhausen
DESCRIPTION:Norwegen - Land der Fjorde  -  Teil 1  (60-Minuten-Version)\
 nIm ersten Teil seiner aktuellen\, komplett neu arrangierten und wie immer 
 live kommentierten Norwegen-Reportage stellt Ihnen der Reisefotograf Andrea
 s Huber die attraktivsten Reiseziele Norwegens vor. Nur an wenigen Orten de
 r Welt finden sich so viele verschiedene spektakuläre Landschaften wie in 
 Norwegen. Die berühmte Fjordlandschaft zählt zu den beliebtesten Reisezie
 len weltweit.\nSeit 15 Jahren durchstreift Andreas Huber mit seiner Fotoaus
 rüstung regelmäßig und zu allen Jahreszeiten die wildromantischen Landsc
 haften Norwegens und sammelt dabei Aufnahmen voller Zauber und Magie. Die m
 ajestätische Erhabenheit von Fjord-Norwegen ist ein Paradies für jeden Re
 isenden und Fotografen.\nDie Leinwandreise im ersten Teil führt vom südli
 chsten Punkt am Kap Lindesnes über den nördlichen Polarkreis in das Land 
 der Mitternachtssonne bis zu den Lofoten\, dem Archipel des Kabeljaus. Nebe
 n einigen „Geheimtipps“ des Fotografen sind es auch immer wieder die Be
 gegnungen mit dem Menschen\, die das Bild eines Landes mit all seinen Kultu
 rschätzen prägen.\nAm Ende der vielen Reisen haben sich die Einzelteile z
 u einem harmonischen Ganzen zusammengefügt. Andreas Huber präsentiert die
  eindrucksvolle Norwegen-Reportage in gewohnt perfekter digitaler Projektio
 n mit brillanten Standbildern\, High-Definition-Filmsequenzen und sorgsam a
 usgesuchter Musikunterlegung. In seinem informativen und interessanten Live
 kommentar erhalten Sie viele wertvolle Tipps und Informationen für eine ei
 gene Erkundung von Norwegen\, dem Land der Fjorde.\nTickets bekommen Sie (a
 n der Abendkasse) im GDA Hannover-Waldhausen\nReisebroschüre:Bei meinen Sh
 ows können Sie eine 52-seitige-Reisebroschüre im DIN-A5-Format zum Preis 
 von 8\,50 € erwerben. Selbstverständlich sende ich Ihnen die Broschüre 
 mit einem geringen Portoaufschlag auch gerne auf dem Postweg zu.
LOCATION:GDA Hannover-Waldhausen\, Hildesheimer Straße 183\, 30173 Hannove
 r
DTSTAMP:20260423T150918Z
DTSTART:20260521T140000Z
DTEND:20260521T150000Z
END:VEVENT
END:VCALENDAR
